BEGIN:VCALENDAR
PRODID:-//eluceo/ical//2.0/EN
VERSION:2.0
CALSCALE:GREGORIAN
BEGIN:VEVENT
UID:70bb340de94ff0dfb75f8777f1e76846
DTSTAMP:20260424T085835Z
SUMMARY:Comedian Pamela Rae Schuller
DESCRIPTION:Champaign-Urbana Jewish Federation\nCommunity Calendar\nhttps:/
 /cujf.org/community-calendar/comedian-pamela-rae-schuller\n\nSunday\, Apri
 l 7 at 7 PM\, we will welcome disability advocate and comedienne Pamela R
 ae Schuller.  Ms. Schuller’s presentations combine comedy and storytell
 ing to talk about valuing differences and inclusion through telling her st
 ory of growing up with Tourette Syndrome and her journey to embrace it. He
 r comedy has been seen and heard on Netflix\, NBC\, and Sirius XM.  It wi
 ll be an evening of laughter and learning.  The evening will include a de
 ssert reception.  There is no cost for the ...
DTSTART;TZID=America/Chicago:20240407T190000
DTEND;TZID=America/Chicago:20240407T203000
END:VEVENT
END:VCALENDAR
