BEGIN:VCALENDAR
PRODID:-//eluceo/ical//2.0/EN
VERSION:2.0
CALSCALE:GREGORIAN
BEGIN:VEVENT
UID:6983fa48f4ce30136a2759348d57f1d5
DTSTAMP:20260422T150600Z
SUMMARY:Children of Eden streaming event
DESCRIPTION:Champaign-Urbana Jewish Federation\nCommunity Calendar\nhttps:/
 /cujf.org/community-calendar/children-of-eden\n\nShared on behalf of Illin
 i Hillel\n\nCHILDREN OF EDEN is a musical based on the book of Genesis th
 at offers a unique telling of the story of creation through the epic of No
 ah and the flood. The stunning musical is by Stephen Schwartz (the compose
 r of WICKED\, PIPPIN\, and GODSPELL) and John Caird (the director of L
 ES MISERABLES).\n\nJoin us at Hillel (503 E John Street) this Sunday at 4p
 m for a special opportunity to watch a limited streaming event of the con
 cert performance starring Mi...
DTSTART;TZID=America/Chicago:20260426T160000
DTEND;TZID=America/Chicago:20260426T180000
END:VEVENT
END:VCALENDAR
