BEGIN:VCALENDAR
PRODID:-//eluceo/ical//2.0/EN
VERSION:2.0
CALSCALE:GREGORIAN
BEGIN:VEVENT
UID:6565e416a64676400584c50a54b8944f
DTSTAMP:20260423T235513Z
SUMMARY:Champaign-Urbana Jewish Federation Kickoff Event
DESCRIPTION:Champaign-Urbana Jewish Federation\nCommunity Calendar\nhttps:/
 /cujf.org/community-calendar/champaign-urbana-jewish-federation-kickoff-ev
 ent\n\nInternationally-known\, gold-medallist racer and a graduate of the
  University of Illinois\, Josh George has overcome major challenges to b
 ecome a world champion athlete. He will motivate\, inspire\, and entertai
 n you with his story and perspectives. We will discover how to push ours
 elves to be the best we can be\, as individuals\, as a Federation\, and as
  a community. Join us for inspiration and camaraderie (along with drinks\
 , appetizers and dessert) for this very special evening!
DTSTART;TZID=America/Chicago:20171112T190000
DTEND;TZID=America/Chicago:20171112T210000
END:VEVENT
END:VCALENDAR
