BEGIN:VCALENDAR
PRODID:-//eluceo/ical//2.0/EN
VERSION:2.0
CALSCALE:GREGORIAN
BEGIN:VEVENT
UID:9cbb6af54f351144fc3323d4697b2465
DTSTAMP:20260422T170853Z
SUMMARY:Chambana Schmooze Summer Potluck
DESCRIPTION:Champaign-Urbana Jewish Federation\nCommunity Calendar\nhttps:/
 /cujf.org/community-calendar/chambana-schmooze-summer-potluck-1661300012\n
 \nCalling all young professionals and grad students! \nJoin us for a summe
 r potluck at Crystal Lake Park (206 W. Park Street in Urbana). Bring your 
 favorite snacks or sides. Kosher pizza will be provided. Funding allocated
  by CUJF.
DTSTART;TZID=America/Chicago:20220828T130000
DTEND;TZID=America/Chicago:20220828T150000
END:VEVENT
END:VCALENDAR
