BEGIN:VCALENDAR
PRODID:-//eluceo/ical//2.0/EN
VERSION:2.0
CALSCALE:GREGORIAN
BEGIN:VEVENT
UID:24fc713a0a1f8cc8363777c9a34cc8b7
DTSTAMP:20260426T035247Z
SUMMARY:Chambana Schmooze Hosts: 2022 Chanukkah Party
DESCRIPTION:Champaign-Urbana Jewish Federation\nCommunity Calendar\nhttps:/
 /cujf.org/community-calendar/chambana-schmooze-hosts-2022-chanukkah-party-
 1670368354\n\nCalling all graduate students\, college seniors\, and young/
  young-at-heart professionals in the community (21+): Chambana Schmooze in
 vites you to Cafeteria and Company for a Chanukah celebration with beverag
 es\, doughnuts and latkes. It'll be stuff your own Sufignyot\, and we will
  also have paintable dreidels and wood blocks with stencils.Come enjoy Cha
 nukah music\, watch Chanukah specials\, and play some games. Raffle prizes
  include an Illinois speaker\, a gift certificate towards an Illinois game
 ...
DTSTART;TZID=America/Chicago:20221214T190000
DTEND;TZID=America/Chicago:20221214T210000
END:VEVENT
END:VCALENDAR
