BEGIN:VCALENDAR
PRODID:-//eluceo/ical//2.0/EN
VERSION:2.0
CALSCALE:GREGORIAN
BEGIN:VEVENT
UID:cc63f1fa3a7baa94209464a463971362
DTSTAMP:20260421T093138Z
SUMMARY:Chambana Schmooze Afternoon Paint
DESCRIPTION:Champaign-Urbana Jewish Federation\nCommunity Calendar\nhttps:/
 /cujf.org/community-calendar/chambana-schmooze-afternoon-paint-1666903692-
 420625\n\nAfternoon free paint session
DTSTART;TZID=America/Chicago:20221113T150000
DTEND;TZID=America/Chicago:20221113T170000
END:VEVENT
END:VCALENDAR
