BEGIN:VCALENDAR
PRODID:-//eluceo/ical//2.0/EN
VERSION:2.0
CALSCALE:GREGORIAN
BEGIN:VEVENT
UID:a5325ed0cca5c727cd1ccbc66fe94f7e
DTSTAMP:20260423T175317Z
SUMMARY:CHAI Seniors with Datia Bross
DESCRIPTION:Champaign-Urbana Jewish Federation\nCommunity Calendar\nhttps:/
 /cujf.org/community-calendar/chai-seniors-with-datia-bross\n\nCome and hea
 r Datia talk about her experience volunteering on farms in Israel during J
 anuary\, and how she turned her pain into action. She will discuss her per
 sonal and familial connection with Israel\, as well as how you can volunte
 er like she did! You can RSVP at www.cujf.org/rsvp-chai
DTSTART;TZID=America/Chicago:20240416T120000
DTEND;TZID=America/Chicago:20240416T130000
END:VEVENT
END:VCALENDAR
