BEGIN:VCALENDAR
PRODID:-//eluceo/ical//2.0/EN
VERSION:2.0
CALSCALE:GREGORIAN
BEGIN:VEVENT
UID:96e50c68e35860a649211a9fada10d3e
DTSTAMP:20260421T031311Z
SUMMARY:CHAI Seniors: The Craft of Creativity with Jeff Loewenstein\, Sinai
  Temple
DESCRIPTION:Champaign-Urbana Jewish Federation\nCommunity Calendar\nhttps:/
 /cujf.org/community-calendar/chai-seniors-the-craft-of-creativity-309076\n
 \nCHAI Seniors presents: The Craft of Creativity with Jeff Loewenstein at 
 Sinai Temple.\n\n \n\nLunch begins at 11:45 a.m.  Speaker will begin at 
 12:30 p.m.  \n\n \n\nCost for lunch:  $5 per person\n\n 
DTSTART;TZID=America/Chicago:20190515T114500
DTEND;TZID=America/Chicago:20190515T131500
END:VEVENT
END:VCALENDAR
