BEGIN:VCALENDAR
PRODID:-//eluceo/ical//2.0/EN
VERSION:2.0
CALSCALE:GREGORIAN
BEGIN:VEVENT
UID:3feedfa88d60bfa587245ec48a33e9bb
DTSTAMP:20260423T031524Z
SUMMARY:CHAI Seniors: Reserach of a Feminist Ethnographer in Israel
DESCRIPTION:Champaign-Urbana Jewish Federation\nCommunity Calendar\nhttps:/
 /cujf.org/community-calendar/chai-seniors-reserach-of-a-feminist-ethnograp
 her-in-israel\n\nProfessor Pnina Motzafi-Haller teaches Anthropology at Be
 n Gurion University. She is an Israel Institute visiting scholar at the Un
 iversity of Illinois this year. She will read from her new book\, Cement B
 oxes: Mizrahi Women on Israel's Periphery\, and discuss life on Israel's 
 periphery. \n\nCost to attend is $5. A Light lunch will be served. \n\nR
 SVP to CUJF by December 5
DTSTART;TZID=America/Chicago:20181211T111500
DTEND;TZID=America/Chicago:20181211T131500
END:VEVENT
END:VCALENDAR
