BEGIN:VCALENDAR
PRODID:-//eluceo/ical//2.0/EN
VERSION:2.0
CALSCALE:GREGORIAN
BEGIN:VEVENT
UID:cbca7005f88e22ed83a279a053eaf954
DTSTAMP:20260422T081354Z
SUMMARY:CHAI Seniors Presents: Story of Survival
DESCRIPTION:Champaign-Urbana Jewish Federation\nCommunity Calendar\nhttps:/
 /cujf.org/community-calendar/chai-seniors-presents-story-of-survival\n\nLi
 nda Bauer is Executive Director of the Champaign-Urbana Jewish Federation.
   She has had a varied career in education\, marketing\, public relations
 \, fundraising\, and information technology.\n\n \n\nShe was born Luba Kl
 ajman in Fuerth\, Germany\, in 1948 in a displaced persons camp. Her paren
 ts were Wolf and Elsa Klajman\, Polish Jews who survived the Holocaust\, a
 nd met in Thereseinstadt following the liberation.  They married and Lind
 a was born during their nearly four-year wait to get papers...
DTSTART;TZID=America/Chicago:20180523T113000
DTEND;TZID=America/Chicago:20180523T133000
END:VEVENT
END:VCALENDAR
