BEGIN:VCALENDAR
PRODID:-//eluceo/ical//2.0/EN
VERSION:2.0
CALSCALE:GREGORIAN
BEGIN:VEVENT
UID:e37079b25aad718de92deffe3e258909
DTSTAMP:20260421T031210Z
SUMMARY:Chai Seniors June Gathering
DESCRIPTION:Champaign-Urbana Jewish Federation\nCommunity Calendar\nhttps:/
 /cujf.org/community-calendar/chai-seniors-june-gathering-1685464976\n\nDin
 ner will be a Middle-Eastern style buffet meal from Shawarma Joint with ve
 getarian and chicken meal options ($10/person suggested donation).  Dinner
  will be in a reserved room at Hillel at 6pm.  At 7pm\, dinner guests are
  invited to join Erez Cohen\, Hillel&#039\;s Executive Director\, and othe
 r community members for desserts\, drinks\, and a lecture about Hillel&#03
 9\;s 100-year history. Erez will be sharing some of Hillel&#039\;s vast hi
 story including stories about Hillel&#039\;s leaders\, student life\, and 
 some...
DTSTART;TZID=America/Chicago:20230615T180000
DTEND;TZID=America/Chicago:20230615T210000
END:VEVENT
END:VCALENDAR
