BEGIN:VCALENDAR
PRODID:-//eluceo/ical//2.0/EN
VERSION:2.0
CALSCALE:GREGORIAN
BEGIN:VEVENT
UID:dadcd3f473ffeff3c6fd2e400233dcd5
DTSTAMP:20260421T093128Z
SUMMARY:CHAI Seniors  - Jewish perspectives on the death
DESCRIPTION:Champaign-Urbana Jewish Federation\nCommunity Calendar\nhttps:/
 /cujf.org/community-calendar/chai-seniors-jewish-perspectives-on-the-death
 \n\nCHAI Seniors\n\nJewish perspectives on the death with compassion law \
 n\nFeaturing Andrea Klein and Rabbi Norman Klein\n\nSinai Temple\n\n3104 W
 indsor Road\n\nChampaign\, IL\n\nSunday\, March 12th \n\nDinner 5:30pm\n\
 nPresentation 6:15pm\n\n \n\nOur next Chai Seniors event will feature And
 rea Klein and Rabbi Klein.  Andrea will share her personal experience wit
 h her terminally ill mother in her last years of life and the death with c
 ompassion/dignity law act in Colorado\, and Rabbi Klein wi...
DTSTART;TZID=America/Chicago:20230312T000000
DTEND;TZID=America/Chicago:20230312T235959
END:VEVENT
END:VCALENDAR
