BEGIN:VCALENDAR
PRODID:-//eluceo/ical//2.0/EN
VERSION:2.0
CALSCALE:GREGORIAN
BEGIN:VEVENT
UID:fdc9ef78b8a318a00a474591bf059663
DTSTAMP:20260421T154153Z
SUMMARY:CHAI Seniors Getting to Know You Luncheon
DESCRIPTION:Champaign-Urbana Jewish Federation\nCommunity Calendar\nhttps:/
 /cujf.org/community-calendar/chai-seniors-getting-to-know-you-luncheon-170
 5090797\n\nLunch is sponsored by CUJF and CUJEF. The Chai Seniors Program 
 is coordinated by CUJF and funded by the Goldberg-Gordon-Yairi Fund and th
 e Libby and Harry Miller Memorial Fund\, which are managed by the Champaig
 n Urbana Jewish Endowment Foundation.
DTSTART;TZID=America/Chicago:20240123T113000
DTEND;TZID=America/Chicago:20240123T123000
END:VEVENT
END:VCALENDAR
