BEGIN:VCALENDAR
PRODID:-//eluceo/ical//2.0/EN
VERSION:2.0
CALSCALE:GREGORIAN
BEGIN:VEVENT
UID:4db6c5cb16eb9753c0e0db72749d97b1
DTSTAMP:20260421T084242Z
SUMMARY:Chai Seniors Falsettos Discussion
DESCRIPTION:Champaign-Urbana Jewish Federation\nCommunity Calendar\nhttps:/
 /cujf.org/community-calendar/chai-seniors-falsettos-discussion\n\nJoin us 
 Wednesday\, February 28th at 11:30am for lunch and a conversation about Th
 e Station Theatre's upcoming musical Falsettos. Originally scheduled for
  2020\, this long-awaited musical is a hilarious and heartbreaking explor
 ation of family\, Jewish identity\, and gay life at the dawn of the AIDS e
 pidemic.\n\n \n\nSinai Temple members Jaclyn Loewenstein and Ruth Ionin a
 re in the Falsettos cast and will join us to present a sneak peek and enga
 ge in discussion about memories of the late 1970s...
DTSTART;TZID=America/Chicago:20240228T113000
DTEND;TZID=America/Chicago:20240228T123000
END:VEVENT
END:VCALENDAR
