BEGIN:VCALENDAR
PRODID:-//eluceo/ical//2.0/EN
VERSION:2.0
CALSCALE:GREGORIAN
BEGIN:VEVENT
UID:6e7cf41c44391a6787b92bb1f130f0e3
DTSTAMP:20260422T075548Z
SUMMARY:CHAI Seniors Chanukah Party
DESCRIPTION:Champaign-Urbana Jewish Federation\nCommunity Calendar\nhttps:/
 /cujf.org/community-calendar/chai-seniors-chanukah-party\n\nCHAI Seniors C
 hanukah Party\n\nThursday\, December 19th\, 2024\n\n4:00 PM - 5:30 PM\n\nI
 llini Chabad\, 209 E Armory\, Champaign IL\n\n \n\nOn Thursday\, Decembe
 r 19th from 4:00 - 5:30 PM at Chabad\, 209 E Armory\, CHAI Seniors welco
 mes you for a Pre-Hanukah Party! Come and celebrate by enjoying latkas\, s
 ufganiyot\, playing games\, and more! \n\n \n\nThere will be a parking l
 ot across from the building for those who are driving. If you are not comf
 ortable driving after sunset\, or need help coordi...
DTSTART;TZID=America/Chicago:20241219T160000
DTEND;TZID=America/Chicago:20241219T173000
END:VEVENT
END:VCALENDAR
