BEGIN:VCALENDAR
PRODID:-//eluceo/ical//2.0/EN
VERSION:2.0
CALSCALE:GREGORIAN
BEGIN:VEVENT
UID:0b8b1ba1b43138c52d6b2dfe2dd5a51e
DTSTAMP:20260420T165053Z
SUMMARY:CHAI Seniors: Central Illinois Jewish Community Archives
DESCRIPTION:Champaign-Urbana Jewish Federation\nCommunity Calendar\nhttps:/
 /cujf.org/community-calendar/chai-seniors-central-illinois-jewish-communit
 y-archives\n\nCHAI Seniors will be joined by Amanda Riggenbach of the Cent
 ral Illinois Jewish Community Archives. She will be sharing the work of th
 e archives and how it continues to serve our Jewish community today. \n\n
 You can find more info and RSVP at www.cujf.org/chai
DTSTART;TZID=America/Chicago:20250521T000000
DTEND;TZID=America/Chicago:20250521T010000
END:VEVENT
END:VCALENDAR
