BEGIN:VCALENDAR
PRODID:-//eluceo/ical//2.0/EN
VERSION:2.0
CALSCALE:GREGORIAN
BEGIN:VEVENT
UID:31b8ec0b7709beff534baa35a78010e7
DTSTAMP:20260421T030507Z
SUMMARY:CHAI Seniors: Dr. Eugene Avrutin
DESCRIPTION:Champaign-Urbana Jewish Federation\nCommunity Calendar\nhttps:/
 /cujf.org/community-calendar/chai-seniors-620\n\nJoin us to hear Dr. Eugen
 e Avrutin\, the Director of the Program in Jewish Culture and Society at t
 he University of Illinois. He will talk about the many different projects 
 he has worked on during his time in Champaign-Urbana\, such as the recent 
 Antisemitism on the American Campus Conference that took place in May.  D
 r. Avrutin is also the author of several books\, including Jews and the Im
 perial State: Identification Politics in Tsarist Russia and The Velizh Aff
 air: Blood Libel in a Russian T...
DTSTART;TZID=America/Chicago:20240620T120000
DTEND;TZID=America/Chicago:20240620T130000
END:VEVENT
END:VCALENDAR
