BEGIN:VCALENDAR
PRODID:-//eluceo/ical//2.0/EN
VERSION:2.0
CALSCALE:GREGORIAN
BEGIN:VEVENT
UID:eadb1778a4adc54d55d39f65d902674b
DTSTAMP:20260422T164245Z
SUMMARY:CHAI Seniors: Valleri Robinson
DESCRIPTION:Champaign-Urbana Jewish Federation\nCommunity Calendar\nhttps:/
 /cujf.org/community-calendar/chai-jan-25\n\nCHAI Seniors January Event: Va
 llerie Robinson discussing Yiddish Theater\n\nRSVP at cujf.org/chai
DTSTART;TZID=America/Chicago:20250122T120000
DTEND;TZID=America/Chicago:20250122T133000
END:VEVENT
END:VCALENDAR
