BEGIN:VCALENDAR
PRODID:-//eluceo/ical//2.0/EN
VERSION:2.0
CALSCALE:GREGORIAN
BEGIN:VEVENT
UID:e64094b92edacc6a7f3deb6c2fa73710
DTSTAMP:20260421T205658Z
SUMMARY:Chai Event: Dinner & Speaker
DESCRIPTION:Champaign-Urbana Jewish Federation\nCommunity Calendar\nhttps:/
 /cujf.org/community-calendar/chai-event-dinner--speaker-1690959122\n\nCate
 red dinner ($10/person) followed by presentation by Joseph Altshuler\, UIU
 C professor in Architecture who will talk about the Chicago Sukkah Festiva
 l which he has founded. Location and dinner details are TBD.
DTSTART;TZID=America/Chicago:20230831T180000
DTEND;TZID=America/Chicago:20230831T200000
END:VEVENT
END:VCALENDAR
