BEGIN:VCALENDAR
PRODID:-//eluceo/ical//2.0/EN
VERSION:2.0
CALSCALE:GREGORIAN
BEGIN:VEVENT
UID:6f44288a82cb66a13b0c935f45f81858
DTSTAMP:20260421T060839Z
SUMMARY:Central Illinois Jewish Communities Archives at the University of I
 llinois
DESCRIPTION:Champaign-Urbana Jewish Federation\nCommunity Calendar\nhttps:/
 /cujf.org/community-calendar/central-illinois-jewish-communities-archives-
 at-the-university-of-illinois-1660070710\n\nDo you have Jewish ancestors t
 hat lived in central Illinois? There is a new archive collection held with
 in the Illinois History and Lincoln Collections at the University of Illin
 ois that may provide more insight into their lives. Join us as Dana Miller
 \, graduate assistant for the Central Illinois Jewish Communities Archives
  covers this new collection and what it has to offer the genealogy communi
 ty.The presentation will begin at 7:00 pm (CDT). Want some extra time to t
 alk about genealogy? Log...
DTSTART;TZID=America/Chicago:20220809T190000
DTEND;TZID=America/Chicago:20220809T203000
END:VEVENT
END:VCALENDAR
