BEGIN:VCALENDAR
PRODID:-//eluceo/ical//2.0/EN
VERSION:2.0
CALSCALE:GREGORIAN
BEGIN:VEVENT
UID:3bf13babbae6d1e0c1ad36db94211451
DTSTAMP:20260421T154213Z
SUMMARY:Center for Jewish Belonging Info Session
DESCRIPTION:Champaign-Urbana Jewish Federation\nCommunity Calendar\nhttps:/
 /cujf.org/community-calendar/center-for-jewish-belonging-info-session\n\nC
 enter for Jewish Belonging Info Session\, April 2nd at 3pm ET: Please join
  Jewish Federations’ Center for Jewish Belonging for an info session abo
 ut the Center for Jewish Belonging\, our mission\, key objectives and acti
 vities. Together we will grapple with challenges relating to Jewish commun
 al belonging\, how the CJB is working to address these challenges\, and wa
 ys in which we can work together to create a sense of belonging for all Je
 ws and our loved ones. Register Today!
DTSTART;TZID=America/Chicago:20250402T140000
DTEND;TZID=America/Chicago:20250402T160000
END:VEVENT
END:VCALENDAR
