BEGIN:VCALENDAR
PRODID:-//eluceo/ical//2.0/EN
VERSION:2.0
CALSCALE:GREGORIAN
BEGIN:VEVENT
UID:126fef3819c1c32e6c694d991283771e
DTSTAMP:20260422T063104Z
SUMMARY:Career Lecture Series with CUTY (C-U Temple Youth) and CUJF
DESCRIPTION:Champaign-Urbana Jewish Federation\nCommunity Calendar\nhttps:/
 /cujf.org/community-calendar/career-lecture-series-with-cuty-c-u-temple-yo
 uth-and-cujf\n\nWe are excited to have these members of the community join
  us and tell us about their careers:\n1. Benjamin Bross\, Architecture Pro
 fessor\n2. Dana Rabin\, History Professor. \n3. Karen Rudolph\, Psycholog
 y Professor\n\nAll 7th-12th graders and their parents are invited to come 
 get ideas for career options\, learn about interesting new topics\, meet a
 dults in the community who do interesting and important work\, and get a c
 hance to hang out with each other and eat cookies at the reception. \nRSV
 P...
DTSTART;TZID=America/Chicago:20190331T130000
DTEND;TZID=America/Chicago:20190331T143000
END:VEVENT
END:VCALENDAR
