BEGIN:VCALENDAR
PRODID:-//eluceo/ical//2.0/EN
VERSION:2.0
CALSCALE:GREGORIAN
BEGIN:VEVENT
UID:1f68559a621f0b81b4e2733dae37dd8e
DTSTAMP:20260422T214625Z
SUMMARY:Candlelighting 6:57
DESCRIPTION:Champaign-Urbana Jewish Federation\nCommunity Calendar\nhttps:/
 /cujf.org/community-calendar/candlelighting-March-30-2018\n\nCandlelightin
 g Time for March 30\, 2018
DTSTART;TZID=America/Chicago:20180330T000000
DTEND;TZID=America/Chicago:20180330T235959
END:VEVENT
END:VCALENDAR
