BEGIN:VCALENDAR
PRODID:-//eluceo/ical//2.0/EN
VERSION:2.0
CALSCALE:GREGORIAN
BEGIN:VEVENT
UID:0dfef1caf759e4751181735a1ad942e1
DTSTAMP:20260421T203734Z
SUMMARY:Bonnie Dayan New Year Brisket Dinner
DESCRIPTION:Champaign-Urbana Jewish Federation\nCommunity Calendar\nhttps:/
 /cujf.org/community-calendar/bonnie-dayan-new-year-brisket-dinner\n\n \n\
 nJoin Chabad to celebrate Rosh Hashanah. RSVP is required for this dinne
 r. See the full schedule for the high holidays on the Chabad website. 
DTSTART;TZID=America/Chicago:20180909T194500
DTEND;TZID=America/Chicago:20180909T210000
END:VEVENT
END:VCALENDAR
