BEGIN:VCALENDAR
PRODID:-//eluceo/ical//2.0/EN
VERSION:2.0
CALSCALE:GREGORIAN
BEGIN:VEVENT
UID:1393e1ed97d0345539cc95dc6c3905f0
DTSTAMP:20260421T110510Z
SUMMARY:Board of Directors Meeting - Champaign-Urbana Jewish Federation Apr
 il
DESCRIPTION:Champaign-Urbana Jewish Federation\nCommunity Calendar\nhttps:/
 /cujf.org/community-calendar/board-of-directors-meeting-champaign-urbana-j
 ewish-federation\n\nThe CUJF Board of Directors meets monthly via Zoom. Me
 etings are open to the public. Please email cujf@cujf.org for the Zoom lin
 k. 
DTSTART;TZID=America/Chicago:20240418T190000
DTEND;TZID=America/Chicago:20240418T203000
END:VEVENT
END:VCALENDAR
