BEGIN:VCALENDAR
PRODID:-//eluceo/ical//2.0/EN
VERSION:2.0
CALSCALE:GREGORIAN
BEGIN:VEVENT
UID:bd020b07e5079e9f164e061ceeb5db40
DTSTAMP:20260421T205728Z
SUMMARY:Blood Drive
DESCRIPTION:Champaign-Urbana Jewish Federation\nCommunity Calendar\nhttps:/
 /cujf.org/community-calendar/blood-drive-1660675613\n\nThere is a severe s
 hortage of blood in our community. While some people are not eligible to d
 onate\, many people who are able/eligible aren't donating. Please consider
  donating blood on August 28 at Sinai Temple. For most\, donating blood is
  a painless and quick process and the impact is huge. Sign up soon! Partic
 ipants will receive a small gift card and snacks! Masks are required.https
 ://login.bloodcenter.org/donor/schedules/drive_schedule/110280 Questions -
  contact Rabbi Jody Cook - educator@...
DTSTART;TZID=America/Chicago:20220828T113000
DTEND;TZID=America/Chicago:20220828T160000
END:VEVENT
END:VCALENDAR
