BEGIN:VCALENDAR
PRODID:-//eluceo/ical//2.0/EN
VERSION:2.0
CALSCALE:GREGORIAN
BEGIN:VEVENT
UID:9041afe68098edd86ea2978bd63aaec9
DTSTAMP:20260425T205957Z
SUMMARY:Black-Jewish Relations' from the Perspective of Black Jews
DESCRIPTION:Champaign-Urbana Jewish Federation\nCommunity Calendar\nhttps:/
 /cujf.org/community-calendar/black-jewish-relations-from-the-perspective-o
 f-black-jews\n\nBlack-Jewish Relations” from the Perspective of Black Je
 ws\, Wednesday\, February 19th at 3pm ET: Join Jewish Federations’ Cente
 r for Jewish Belonging for a conversation about Black Jewish Relations fro
 m the perspective of Black Jews. In this thought provoking webinar during 
 Black History Month\, we speak with Jews of Black Heritage on Black Jewish
  relations and how we can move from romanticizing the Civil Rights era to 
 building authentic relationships with the Black community of today and t..
 .
DTSTART;TZID=America/Chicago:20250219T140000
DTEND;TZID=America/Chicago:20250219T160000
END:VEVENT
END:VCALENDAR
