BEGIN:VCALENDAR
PRODID:-//eluceo/ical//2.0/EN
VERSION:2.0
CALSCALE:GREGORIAN
BEGIN:VEVENT
UID:60dba1219a1a6ad6d66eb725a59021e4
DTSTAMP:20260421T162003Z
SUMMARY:Black Jewish Perspectives on This Moment
DESCRIPTION:Champaign-Urbana Jewish Federation\nCommunity Calendar\nhttps:/
 /cujf.org/community-calendar/black-jewish-perspectives-on-this-moment\n\nT
 o register\, click here\n\n \n\nGiven the culture wars of our day\, what
  perspectives do Black Jews hold that can help set new directions for Amer
 ican Jewish life? In what ways can Jews shed light on the compounded effec
 ts of antisemitism and racism in the 21st century? Join a panel discussion
  among a diverse set of Black-Jewish thought leaders\, including our own R
 abbi Isaiah Rothstein\, on Thursday\, Feb. 29 at noon ET coordinated by 
 70 Faces Media to mark the end of Black History Month. ...
DTSTART;TZID=America/Chicago:20240229T120000
DTEND;TZID=America/Chicago:20240229T130000
END:VEVENT
END:VCALENDAR
