BEGIN:VCALENDAR
PRODID:-//eluceo/ical//2.0/EN
VERSION:2.0
CALSCALE:GREGORIAN
BEGIN:VEVENT
UID:0809db2d48aa9a4c3e311a21a7d9fa84
DTSTAMP:20260424T182228Z
SUMMARY:Black & Jewish America: An Interwoven History: with Henry Louis Gat
 es\, Jr.
DESCRIPTION:Champaign-Urbana Jewish Federation\nCommunity Calendar\nhttps:/
 /cujf.org/community-calendar/black-and-jewish-america-an-interwoven-histor
 y-a-conversation-with-henry-louis-gates-jr\n\nBlack and Jewish America: An
  Interwoven History is a newly released four-part series from acclaimed s
 cholar Henry Louis Gates\, Jr\, exploring the rich\, complex relationship 
 between Black and Jewish Americans throughout our country’s history. It 
 is a kinship defined by powerful moments of solidarity and painful episode
 s of division.\n\nDuring this webinar\, hosted in partnership between Faci
 ng History & Ourselves and Share My Lesson\, we’ll be in conversation wi
 th Henry Louis Gates\, Jr. to ...
DTSTART;TZID=America/Chicago:20260310T170000
DTEND;TZID=America/Chicago:20260310T190000
END:VEVENT
END:VCALENDAR
