BEGIN:VCALENDAR
PRODID:-//eluceo/ical//2.0/EN
VERSION:2.0
CALSCALE:GREGORIAN
BEGIN:VEVENT
UID:2da9c5bc4b1e4f058066f3f8f76f7030
DTSTAMP:20260420T092241Z
SUMMARY:Bill Gingold speaking at Tuscola Public Library
DESCRIPTION:Champaign-Urbana Jewish Federation\nCommunity Calendar\nhttps:/
 /cujf.org/community-calendar/bill-gingold-speaking-at-tuscola\n\nCome and 
 hear Bill talk about his experience of surviving the Holocaust as a child\
 , and how his family rebuilt after. From the Warsaw Ghetto\, to the Siberi
 an work camps\, to Ellis Island\, this will be a story you are easily able
  to remember.\n\nHis family story also is documented in the book Tunnel\, 
 Smuggle and Collect - A Holocaust Boy’s Story by Bills late brother\, Je
 ffry Gingold\, and will be available for purchase during the event.\n\nThi
 s event will also be paired with the new Rightous A...
DTSTART;TZID=America/Chicago:20251009T160000
DTEND;TZID=America/Chicago:20251009T190000
END:VEVENT
END:VCALENDAR
