BEGIN:VCALENDAR
PRODID:-//eluceo/ical//2.0/EN
VERSION:2.0
CALSCALE:GREGORIAN
BEGIN:VEVENT
UID:7640ca406f39ae23246bc8008d3aef0d
DTSTAMP:20260426T035549Z
SUMMARY:Bill Gingold at Mahomet Public Library
DESCRIPTION:Champaign-Urbana Jewish Federation\nCommunity Calendar\nhttps:/
 /cujf.org/community-calendar/bill-gingold-at-mahomet-public-library\n\nmor
 e info at cujf.org/hec
DTSTART;TZID=America/Chicago:20250225T173000
DTEND;TZID=America/Chicago:20250225T193000
END:VEVENT
END:VCALENDAR
