BEGIN:VCALENDAR
PRODID:-//eluceo/ical//2.0/EN
VERSION:2.0
CALSCALE:GREGORIAN
BEGIN:VEVENT
UID:67a59f69c39c962048f0a1ad30ee90d9
DTSTAMP:20260422T063054Z
SUMMARY:Belonging for LGBTQ+ Jews and Our Loved Ones
DESCRIPTION:Champaign-Urbana Jewish Federation\nCommunity Calendar\nhttps:/
 /cujf.org/community-calendar/belonging-for-lgbtq-jews-and-our-loved-ones\n
 \nBelonging for LGBTQ+ Jews and Our Loved Ones\, Wednesday February 12th a
 t 3pm ET: Join the Center for Jewish Belonging for a vital conversation ab
 out creating genuine safe spaces where LGBTQ+ Jews can ourish. This sessio
 n will address critical topics including supporting LGBTQ+ community membe
 rs and sta\, navigating legislative impacts\, and building communities of 
 belonging. Learn practical tools for fostering environments where LGBTQ+ J
 ews feel welcomed\, deeply understood\, supported\, and embra...
DTSTART;TZID=America/Chicago:20250212T140000
DTEND;TZID=America/Chicago:20250212T160000
END:VEVENT
END:VCALENDAR
