BEGIN:VCALENDAR
PRODID:-//eluceo/ical//2.0/EN
VERSION:2.0
CALSCALE:GREGORIAN
BEGIN:VEVENT
UID:981e40e5becb096d8aaf0953d1e63703
DTSTAMP:20260422T062736Z
SUMMARY:Belonging and Relationship Building Via Perspective Honoring
DESCRIPTION:Champaign-Urbana Jewish Federation\nCommunity Calendar\nhttps:/
 /cujf.org/community-calendar/belonging-and-relationship-building-via-persp
 ective-honoring\n\nBelonging and Relationship Building Via Perspective Hon
 oring\, Wednesday\, March 5th at 3pm: Join Jewish Federations’ Center fo
 r Jewish Belonging for a conversation about honoring the perspectives of o
 thers\, increasing empathy and cultivating authentic relationships with pe
 ople you disagree with. This workshop will teach the mechanics of the fram
 ework\, and participants will also practice the framework in real-time and
  take home resources for them to utilize in building bridges through digni
 ed...
DTSTART;TZID=America/Chicago:20250305T140000
DTEND;TZID=America/Chicago:20250305T160000
END:VEVENT
END:VCALENDAR
