BEGIN:VCALENDAR
PRODID:-//eluceo/ical//2.0/EN
VERSION:2.0
CALSCALE:GREGORIAN
BEGIN:VEVENT
UID:e1129d2180ec4e0399fb03cebfc7bf22
DTSTAMP:20260424T135454Z
SUMMARY:Behind Enemy Lines: An evening with a Jewish spy in Nazi Ranks
DESCRIPTION:Champaign-Urbana Jewish Federation\nCommunity Calendar\nhttps:/
 /cujf.org/community-calendar/behind-enemy-lines-an-evening-with-a-jewish-s
 py-in-nazi-ranks\n\n98-year-old Marthe Cohn was born in Metz\, France in 1
 920. She was a young woman living near the German border in France\, when 
 Hitler rose to power. As the Nazi occupation escalated\, Marthe's sister w
 as sent to Auschwitz while her family fled to the South of France.\n\n \n
 \nMarthe chose to fight back\, and joined the intelligence service of the 
 First French Army. Utilizing her perfect German accent and Aryan appearanc
 e\, Marthe posed as a German nurse desperately trying to obtain word of a 
 fict...
DTSTART;TZID=America/Chicago:20190213T180000
DTEND;TZID=America/Chicago:20190213T210000
END:VEVENT
END:VCALENDAR
