BEGIN:VCALENDAR
PRODID:-//eluceo/ical//2.0/EN
VERSION:2.0
CALSCALE:GREGORIAN
BEGIN:VEVENT
UID:43018599519f0f03eeb3f0f9296a2af8
DTSTAMP:20260422T181533Z
SUMMARY:Bagel Brunch at Hillel
DESCRIPTION:Champaign-Urbana Jewish Federation\nCommunity Calendar\nhttps:/
 /cujf.org/community-calendar/bagel-brunch\n\nStop by for cream cheese\, lo
 x\, bagels\, and good company.​
DTSTART;TZID=America/Chicago:20191006T113000
DTEND;TZID=America/Chicago:20191006T123000
END:VEVENT
END:VCALENDAR
