BEGIN:VCALENDAR
PRODID:-//eluceo/ical//2.0/EN
VERSION:2.0
CALSCALE:GREGORIAN
BEGIN:VEVENT
UID:e5bc03d4cd34ca5e00d7153d52b5ecf8
DTSTAMP:20260422T063034Z
SUMMARY:Bad Jews at The Station Theatre
DESCRIPTION:Champaign-Urbana Jewish Federation\nCommunity Calendar\nhttps:/
 /cujf.org/community-calendar/bad-jews-at-the-station-theatre-1658154497\n\
 nJoin CUJF in a viewing of Bad Jews followed by a private Q&A with the dir
 ectors and cast. Tickets are $10 if purchased through CUJF. Consider addin
 g a donation to the price of your ticket to support CUJF in these events.
  \n\nLimited availability so please click the link below to RSVP and rese
 rve your seat.\n\nMASKS and proof of vaccination or recent negative Covid 
 test required for admission.\n\nBad Jews by Joshua Harmon is “A fierce\,
  biting comedy about family\, faith\, and what you choose ...
DTSTART;TZID=America/Chicago:20220724T150000
DTEND;TZID=America/Chicago:20220724T170000
END:VEVENT
END:VCALENDAR
