BEGIN:VCALENDAR
PRODID:-//eluceo/ical//2.0/EN
VERSION:2.0
CALSCALE:GREGORIAN
BEGIN:VEVENT
UID:ab17de85e5a3655cf26d857edef5902e
DTSTAMP:20260423T035159Z
SUMMARY:Ayelet Tsabari
DESCRIPTION:Champaign-Urbana Jewish Federation\nCommunity Calendar\nhttps:/
 /cujf.org/community-calendar/ayelet-tsabari-1550526718\n\nAyelet Tsabari w
 ill read excerpts from her work and discuss her writing with Professor Bre
 tt Kaplan (Comparative and World Literature). The presentation will also f
 eature images from the author's research into the lives of Yemeni Jews.\n\
 nAyelet Tsabari's debut story collection "The Best Place on Earth"\, won t
 he Sami Rohr Prize for Jewish Literature\, and the Edward Lewis Wallant Aw
 ard. The book was a New York Times Book Review Editors’ Choice\, Kirkus 
 Review’s Best Debut Fiction of 2016\, w...
DTSTART;TZID=America/Chicago:20190225T170000
DTEND;TZID=America/Chicago:20190225T190000
END:VEVENT
END:VCALENDAR
