BEGIN:VCALENDAR
PRODID:-//eluceo/ical//2.0/EN
VERSION:2.0
CALSCALE:GREGORIAN
BEGIN:VEVENT
UID:13b7a000dec26e9e99912c9cb91c07b6
DTSTAMP:20260423T155010Z
SUMMARY:August Shabbat Rocks
DESCRIPTION:Champaign-Urbana Jewish Federation\nCommunity Calendar\nhttps:/
 /cujf.org/community-calendar/august-shabbat-rocks\n\n \n\n\n\n\n\n\n\n\n\
 n\n\n\n\n\n\n\n\n\n\n\n\n\n\n\n\n\n\n\n\n\n\n\n\n\n\n\n\n\n\n\n\n Shabba
 t Rocks!\n\n\n\n\n\n \n\n\n\n\n\n\nShabbat Rocks - RSVP due by Noon on T
 UESDAY. August 13!\n\nFriday\, AUGUST ...
DTSTART;TZID=America/Chicago:20240816T173000
DTEND;TZID=America/Chicago:20240816T193000
END:VEVENT
END:VCALENDAR
