BEGIN:VCALENDAR
PRODID:-//eluceo/ical//2.0/EN
VERSION:2.0
CALSCALE:GREGORIAN
BEGIN:VEVENT
UID:9710fa0a5e5bc4d3c9ad1eecb3a9a2cb
DTSTAMP:20260426T001930Z
SUMMARY:As the Dust of the Earth: Author Talkback
DESCRIPTION:Champaign-Urbana Jewish Federation\nCommunity Calendar\nhttps:/
 /cujf.org/community-calendar/as-the-dust-of-the-earth-author-talkback\n\nA
 s the Dust of the Earth\n\nMonday\, October 14th\n\n5:00 PM - 6:00 PM\n\nL
 evis Faculty Center room 210\n\n \n\nCome and hear author Harriet Murav d
 iscuss her book As the Dust of the Earth: Abandonment in Law\, War\, and P
 oetry on Monday\, October 14th. \n\n \n\nFrom 1918 to 1922 as many as 4
 0\,000 Jews were killed in the pogroms of the Russian Civil War. The mass 
 violence in Ukraine was part of a global phenomenon of ethnic and racial v
 iolence\, which also included the Armenian genocide\, and a...
DTSTART;TZID=America/Chicago:20241014T170000
DTEND;TZID=America/Chicago:20241014T180000
END:VEVENT
END:VCALENDAR
