BEGIN:VCALENDAR
PRODID:-//eluceo/ical//2.0/EN
VERSION:2.0
CALSCALE:GREGORIAN
BEGIN:VEVENT
UID:e5bdbb5742c74a1dcc44004c3a179217
DTSTAMP:20260420T040119Z
SUMMARY:Arias\, Songs\, and Tangos
DESCRIPTION:Champaign-Urbana Jewish Federation\nCommunity Calendar\nhttps:/
 /cujf.org/community-calendar/arias-songs-and-tangos\n\nArias\, Songs\, and
  Tangos\n\n\n\n\n\n\n\n\n\n\nJanuary 22\, 2026\n6:00 P.M. \n\n\n\n\n\n\n\
 n\n\n\n\nJacqueline Ross\, Soprano\nwith Debra Sutter\, Piano\nArielle Wei
 nstein\, Flute\nTamra Gingold\, Violin\nRob Sweedler\, Piano and Accordion
 ...
DTSTART;TZID=America/Chicago:20260122T180000
DTEND;TZID=America/Chicago:20260122T200000
END:VEVENT
END:VCALENDAR
