BEGIN:VCALENDAR
PRODID:-//eluceo/ical//2.0/EN
VERSION:2.0
CALSCALE:GREGORIAN
BEGIN:VEVENT
UID:1889ea719f09f8aa7aab0af7febf25a2
DTSTAMP:20260423T023603Z
SUMMARY:Antisemitism on the American College Campus
DESCRIPTION:Champaign-Urbana Jewish Federation\nCommunity Calendar\nhttps:/
 /cujf.org/community-calendar/antisemitism-on-the-american-college-campus\n
 \n \n\n\n\n\n\n\n\n\n\n\n\n\n\n\n\n\n\n\n\n\nRegistration with NetID requ
 ired: https://forms.illinois.edu/sec/597441474\n\n\nOr livestream at: ht
 tps://ensemble.illinois.edu/Watch/AntisemitismConference\n\n...
DTSTART;TZID=America/Chicago:20240501T090000
DTEND;TZID=America/Chicago:20240501T184500
END:VEVENT
END:VCALENDAR
