BEGIN:VCALENDAR
PRODID:-//eluceo/ical//2.0/EN
VERSION:2.0
CALSCALE:GREGORIAN
BEGIN:VEVENT
UID:230562951d46012bec325744dddcfbc0
DTSTAMP:20260423T224034Z
SUMMARY:"Antisemitism and Threats to Academic Freedom"
DESCRIPTION:Champaign-Urbana Jewish Federation\nCommunity Calendar\nhttps:/
 /cujf.org/community-calendar/antisemitism-and-threats-to-academic-freedom-
 the-association-of-jewish-studies-working-report\n\nBruce Rosenstock (Reli
 gion): “Antisemitism and Threats to Academic Freedom: The Association of
  Jewish Studies Working Report”\n\n\nEvent Type\nLecture\nSponsor\nThe P
 rogram in Jewish Culture and Society\nLocation\nMain Library\, Room 106\nD
 ate\nSep 21\, 2022   4:00 pm  \nViews\n2\n\nAfter nearly a year of delib
 erations\, the Task Force on Antisemitism and Academic Freedom released it
 s Working Report in December 2021. Join us in person or online for a fasci
 nating discussion abou...
DTSTART;TZID=America/Chicago:20220921T160000
DTEND;TZID=America/Chicago:20220921T180000
END:VEVENT
END:VCALENDAR
