BEGIN:VCALENDAR
PRODID:-//eluceo/ical//2.0/EN
VERSION:2.0
CALSCALE:GREGORIAN
BEGIN:VEVENT
UID:26875eb39e0ad8b6cab4fd3c02374d89
DTSTAMP:20260423T170139Z
SUMMARY:Annual Meeting  of Members - Champaign-Urbana Jewish Federation
DESCRIPTION:Champaign-Urbana Jewish Federation\nCommunity Calendar\nhttps:/
 /cujf.org/community-calendar/annual-meeting-of-members-champaign-urbana-je
 wish-federation\n\nMore details to come
DTSTART;TZID=America/Chicago:20240609T110000
DTEND;TZID=America/Chicago:20240609T130000
END:VEVENT
END:VCALENDAR
