BEGIN:VCALENDAR
PRODID:-//eluceo/ical//2.0/EN
VERSION:2.0
CALSCALE:GREGORIAN
BEGIN:VEVENT
UID:f1610031e8357520c6d3da22bf3b8f7d
DTSTAMP:20260422T083440Z
SUMMARY:CUJF/CUJEF Annual Meeting 2017
DESCRIPTION:Champaign-Urbana Jewish Federation\nCommunity Calendar\nhttps:/
 /cujf.org/community-calendar/annual-meeting-2017-242473\n\nJoin the commun
 ity at the Annual Meeting to hear reports on campaign\, finances\, allocat
 ions\, and programming. Elect new Board members and officers. Enjoy at lig
 ht brunch and schmooze with friends\, old and new. Children's activities p
 rovided. No charge\, but please rsvp at cujf@shalomcu.org.
DTSTART;TZID=America/Chicago:20170827T103000
DTEND;TZID=America/Chicago:20170827T120000
END:VEVENT
END:VCALENDAR
