BEGIN:VCALENDAR
PRODID:-//eluceo/ical//2.0/EN
VERSION:2.0
CALSCALE:GREGORIAN
BEGIN:VEVENT
UID:a5ff3881c8401a60f5b2829ab824d5e3
DTSTAMP:20260422T001805Z
SUMMARY:An Evening with William Gingold\, Holocaust Survivor
DESCRIPTION:Champaign-Urbana Jewish Federation\nCommunity Calendar\nhttps:/
 /cujf.org/community-calendar/an-evening-with-william-gingold-holocaust-sur
 vivor-1682711420\n\nWilliam (Baruch) Gingold was born September 20\, 1939\
 , one day before the hospital\, (in which he was born in Warsaw\, Poland)\
 , was bombed and destroyed by Nazi\, Germany. The Gingolds (immediate fami
 ly) were incarcerated in the Warsaw Ghetto until eventually escaping to th
 e Russian border in January of 1942. Upon reaching the Russian encampment\
 , they and other Jewish people were transported in trucks to trains which 
 took them to Siberian lumber work camps. In November of 1942\, the Gingold
 s were ...
DTSTART;TZID=America/Chicago:20230518T190000
DTEND;TZID=America/Chicago:20230518T210000
END:VEVENT
END:VCALENDAR
