BEGIN:VCALENDAR
PRODID:-//eluceo/ical//2.0/EN
VERSION:2.0
CALSCALE:GREGORIAN
BEGIN:VEVENT
UID:75bd208ced4b44921081e80715e25a79
DTSTAMP:20260421T210858Z
SUMMARY:a real time walking tour of the first excavations of Mila
DESCRIPTION:Champaign-Urbana Jewish Federation\nCommunity Calendar\nhttps:/
 /cujf.org/community-calendar/a-real-time-walking-tour-of-the-first-excavat
 ions-of-mila-1659544289\n\nZoom link: https://zoom.us/j/92415325009?pwd=UW
 Y3VWxLTjJWSjZIdFZuUTRmWjN2UT09The Warsaw Ghetto Museum invites you to a re
 al time walking tour of the first excavations of Mila 18/20 after 80 years
 .On Tisha b'Av\, Sunday August 7\, 2022• 11:30 AM CentralTime• 12:30 P
 M Eastern Time• 18:30 PM Poland TimeAnielewicz's bunker at 18 Miła Stre
 et – a bunker that no longer exists – was located at the corner of Mi
 ła and Dubois Streets in Warsaw's Muranów district. After heavy fighting
  during t...
DTSTART;TZID=America/Chicago:20220807T113000
DTEND;TZID=America/Chicago:20220807T123000
END:VEVENT
END:VCALENDAR
