BEGIN:VCALENDAR
PRODID:-//eluceo/ical//2.0/EN
VERSION:2.0
CALSCALE:GREGORIAN
BEGIN:VEVENT
UID:748137dd058a80bad4e0b34bee1e8e0a
DTSTAMP:20260422T181543Z
SUMMARY:A Documentary Short - R.S.
DESCRIPTION:Champaign-Urbana Jewish Federation\nCommunity Calendar\nhttps:/
 /cujf.org/community-calendar/a-documentary-short-rs\n\nOn this date\, a 25
  minute documentary called “R.S.” will be shown at the Art Theater in 
 Champaign\, Illinois. It is a film about Ray Spooner\, a midwife who was d
 iagnosed with ALS. Upon his diagnosis\, he decided to go on a 3\,000 mile 
 bike ride across the United States. The film chronicles his journey and hi
 s hardships.\n\nThe screening will also function as an advocacy event\, ra
 ising awareness for MDA and ALS. The filmmaker\, Ray’s wife\, and MDA re
 presentatives will all speak at the event ...
DTSTART;TZID=America/Chicago:20190224T190000
DTEND;TZID=America/Chicago:20190224T210000
END:VEVENT
END:VCALENDAR
