BEGIN:VCALENDAR
PRODID:-//eluceo/ical//2.0/EN
VERSION:2.0
CALSCALE:GREGORIAN
BEGIN:VEVENT
UID:5769875424d0ab3cef479008938c5203
DTSTAMP:20260421T042945Z
SUMMARY:Mobile Museum of Tolerance
DESCRIPTION:Champaign-Urbana Jewish Federation\nCommunity Calendar\nhttps:/
 /cujf.org/community-calendar/MMOT\n\nThe Mobile Museum of Tolerance\n\n \
 n\nMonday\, July 15th - Friday\, July 19th\n\nJuly 15th - 17th  |  11:00
 am - 4:00pm\n\nLincoln Square Mall\, 201 Lincoln Square\, Urbana\, IL\n\n
  \n\nFor more information about the Mobile Museum of Tolerance\, visit m
 mot.com. To schedule a specific workshop for your class or group\, please
  email azer@cujf.org.\n\n\n\n\n\n\n\n\n\n\n\n \n\nIn partnership with th
 e Holocaust Education Center and Lincoln Square Mall\, the Mobile Museum o
 f Tolerance wil...
DTSTART;TZID=America/Chicago:20240715T000000
DTEND;TZID=America/Chicago:20240717T235959
END:VEVENT
END:VCALENDAR
