BEGIN:VCALENDAR
PRODID:-//eluceo/ical//2.0/EN
VERSION:2.0
CALSCALE:GREGORIAN
BEGIN:VEVENT
UID:6de4a1270d961afb3774272f84e95cab
DTSTAMP:20260425T152431Z
SUMMARY:International Holocaust Remembrance Day Ceremony at EIU
DESCRIPTION:Champaign-Urbana Jewish Federation\nCommunity Calendar\nhttps:/
 /cujf.org/community-calendar/IHRD-ceremony-at-eiu\n\nEastern Illinois Univ
 ersity to Host Traveling Holocaust Exhibit \n\nin Honor of International 
 Holocaust Remembrance Day\n\n \n\nChampaign\, Illinois (December 30th\, 2
 025). The Auschwitz Experience in the Art of Prisoners\, a traveling exhib
 it about the Holocaust\, will be displayed in the West Reading Room at the
  iconic Booth Library on the Eastern Illinois Campus\, located at 600 Linc
 oln Ave in Charleston\, IL from January 11th to January 29th\, 2026. \n\n
  \n\nThe exhibit\, created by the Ausch...
DTSTART;TZID=America/Chicago:20260127T130000
DTEND;TZID=America/Chicago:20260127T140000
END:VEVENT
END:VCALENDAR
