BEGIN:VCALENDAR
PRODID:-//eluceo/ical//2.0/EN
VERSION:2.0
CALSCALE:GREGORIAN
BEGIN:VEVENT
UID:3e7262b6d7a2603611dbd48efbecfc3a
DTSTAMP:20260423T080201Z
SUMMARY:Fundraiser Performance of Falsettos
DESCRIPTION:Champaign-Urbana Jewish Federation\nCommunity Calendar\nhttps:/
 /cujf.org/community-calendar/FalsettosFundraiser\n\nFundraiser Performance
  of \n\nFalsettos \n\nat the Station Theatre\n\nMarch 31st @ 2:00pm\n\n\n
 Book by William Finn and James Lapine with music and lyrics by William Fin
 n\nDirected by Kendall Jeonson\n\n \n\nOriginally scheduled for spring 20
 20 at The Station\, this long-awaited musical is a hilarious and heartbrea
 king exploration of family\, Jewish identity\, and gay life at the dawn of
  the AIDS epidemic. This is a special fundraiser performance. 50% of proc
 eeds from this performance will go...
DTSTART;TZID=America/Chicago:20240331T140000
DTEND;TZID=America/Chicago:20240331T163000
END:VEVENT
END:VCALENDAR
